Package: multiscan Version: 1.69.0 Command: rm -rf multiscan.buildbin-libdir && mkdir multiscan.buildbin-libdir && F:\biocbuild\bbs-3.22-bioc\R\bin\R.exe CMD INSTALL --build --library=multiscan.buildbin-libdir multiscan_1.69.0.tar.gz StartedAt: 2025-08-15 10:48:14 -0400 (Fri, 15 Aug 2025) EndedAt: 2025-08-15 10:48:27 -0400 (Fri, 15 Aug 2025) EllapsedTime: 12.8 seconds RetCode: 0 Status: OK PackageFile: multiscan_1.69.0.zip PackageFileSize: 565.1 KiB