Package: multiscan Version: 1.69.0 Command: /home/biocbuild/bbs-3.22-bioc/R/bin/R CMD INSTALL multiscan StartedAt: 2025-10-20 15:13:15 -0400 (Mon, 20 Oct 2025) EndedAt: 2025-10-20 15:13:20 -0400 (Mon, 20 Oct 2025) EllapsedTime: 4.8 seconds RetCode: 0 Status: OK