Package: multiscan Version: 1.69.0 Command: /home/biocbuild/bbs-3.22-bioc/R/bin/R CMD check --install=check:multiscan.install-out.txt --library=/home/biocbuild/bbs-3.22-bioc/R/site-library --timings multiscan_1.69.0.tar.gz StartedAt: 2025-10-21 02:24:43 -0400 (Tue, 21 Oct 2025) EndedAt: 2025-10-21 02:25:13 -0400 (Tue, 21 Oct 2025) EllapsedTime: 30.0 seconds RetCode: 0 Status: OK CheckDir: multiscan.Rcheck Warnings: 0