Package: multiscan Version: 1.69.0 Command: /Library/Frameworks/R.framework/Resources/bin/R CMD INSTALL multiscan StartedAt: 2025-10-20 15:15:25 -0400 (Mon, 20 Oct 2025) EndedAt: 2025-10-20 15:15:42 -0400 (Mon, 20 Oct 2025) EllapsedTime: 17.2 seconds RetCode: 0 Status: OK