Package: multiscan Version: 1.69.0 Command: /Library/Frameworks/R.framework/Resources/bin/R CMD check --install=check:multiscan.install-out.txt --library=/Library/Frameworks/R.framework/Resources/library --no-vignettes --timings multiscan_1.69.0.tar.gz StartedAt: 2025-10-21 00:12:37 -0400 (Tue, 21 Oct 2025) EndedAt: 2025-10-21 00:13:21 -0400 (Tue, 21 Oct 2025) EllapsedTime: 43.8 seconds RetCode: 0 Status: OK CheckDir: multiscan.Rcheck Warnings: 0