Package: multiscan Version: 1.69.0 Command: /Library/Frameworks/R.framework/Resources/bin/R CMD build --keep-empty-dirs --no-resave-data multiscan StartedAt: 2025-10-20 18:24:12 -0400 (Mon, 20 Oct 2025) EndedAt: 2025-10-20 18:24:50 -0400 (Mon, 20 Oct 2025) EllapsedTime: 38.2 seconds RetCode: 0 Status: OK PackageFile: multiscan_1.69.0.tar.gz PackageFileSize: 750.3 KiB