Package: multiscan Version: 1.69.0 Command: rm -rf multiscan.buildbin-libdir && mkdir multiscan.buildbin-libdir && /Users/biocbuild/BBS/utils/build-universal.sh multiscan_1.69.0.tar.gz /Library/Frameworks/R.framework/Resources/bin/R multiscan.buildbin-libdir StartedAt: 2025-10-21 03:24:21 -0400 (Tue, 21 Oct 2025) EndedAt: 2025-10-21 03:24:32 -0400 (Tue, 21 Oct 2025) EllapsedTime: 10.3 seconds RetCode: 0 Status: OK PackageFile: multiscan_1.69.0.tgz PackageFileSize: 780.9 KiB