Package: multiscan Version: 1.69.0 Command: /Library/Frameworks/R.framework/Resources/bin/R CMD check --install=check:multiscan.install-out.txt --library=/Library/Frameworks/R.framework/Resources/library --no-vignettes --timings multiscan_1.69.0.tar.gz StartedAt: 2025-10-20 20:58:09 -0400 (Mon, 20 Oct 2025) EndedAt: 2025-10-20 20:58:26 -0400 (Mon, 20 Oct 2025) EllapsedTime: 17.1 seconds RetCode: 0 Status: OK CheckDir: multiscan.Rcheck Warnings: 0