Package: multiscan Version: 1.69.0 Command: /Library/Frameworks/R.framework/Resources/bin/R CMD build --keep-empty-dirs --no-resave-data multiscan StartedAt: 2025-10-20 17:08:45 -0400 (Mon, 20 Oct 2025) EndedAt: 2025-10-20 17:08:51 -0400 (Mon, 20 Oct 2025) EllapsedTime: 6.1 seconds RetCode: 0 Status: OK PackageFile: multiscan_1.69.0.tar.gz PackageFileSize: 750.8 KiB