Package: multiWGCNA Version: 1.7.0 Command: /home/biocbuild/R/R/bin/R CMD check --install=check:multiWGCNA.install-out.txt --library=/home/biocbuild/R/R/site-library --no-vignettes --timings multiWGCNA_1.7.0.tar.gz StartedAt: 2025-09-19 10:51:58 -0000 (Fri, 19 Sep 2025) EndedAt: 2025-09-19 11:05:48 -0000 (Fri, 19 Sep 2025) EllapsedTime: 830.5 seconds RetCode: 0 Status: OK CheckDir: multiWGCNA.Rcheck Warnings: 0