Package: multiWGCNA Version: 1.7.0 Command: /Library/Frameworks/R.framework/Resources/bin/R CMD INSTALL multiWGCNA StartedAt: 2025-10-24 15:42:41 -0400 (Fri, 24 Oct 2025) EndedAt: 2025-10-24 15:43:27 -0400 (Fri, 24 Oct 2025) EllapsedTime: 46.1 seconds RetCode: 0 Status: OK