Package: multiWGCNA Version: 1.7.0 Command: rm -rf multiWGCNA.buildbin-libdir && mkdir multiWGCNA.buildbin-libdir && /Users/biocbuild/BBS/utils/build-universal.sh multiWGCNA_1.7.0.tar.gz /Library/Frameworks/R.framework/Resources/bin/R multiWGCNA.buildbin-libdir StartedAt: 2025-10-25 01:52:29 -0400 (Sat, 25 Oct 2025) EndedAt: 2025-10-25 01:53:18 -0400 (Sat, 25 Oct 2025) EllapsedTime: 48.5 seconds RetCode: 0 Status: OK PackageFile: multiWGCNA_1.7.0.tgz PackageFileSize: 3.951 MiB