Package: multiMiR Version: 1.31.0 Command: /Library/Frameworks/R.framework/Resources/bin/R CMD build --keep-empty-dirs --no-resave-data multiMiR StartedAt: 2025-10-19 17:08:03 -0400 (Sun, 19 Oct 2025) EndedAt: 2025-10-19 17:08:53 -0400 (Sun, 19 Oct 2025) EllapsedTime: 49.6 seconds RetCode: 0 Status: OK PackageFile: multiMiR_1.31.0.tar.gz PackageFileSize: 331.9 KiB