Package: mspms Version: 1.1.0 Command: /Library/Frameworks/R.framework/Resources/bin/R CMD check --install=check:mspms.install-out.txt --library=/Library/Frameworks/R.framework/Resources/library --no-vignettes --timings mspms_1.1.0.tar.gz StartedAt: 2025-10-23 22:39:47 -0400 (Thu, 23 Oct 2025) EndedAt: 2025-10-23 22:52:16 -0400 (Thu, 23 Oct 2025) EllapsedTime: 748.8 seconds RetCode: 0 Status: OK CheckDir: mspms.Rcheck Warnings: 0