Package: msmsEDA Version: 1.47.0 Command: /home/biocbuild/bbs-3.22-bioc/R/bin/R CMD check --install=check:msmsEDA.install-out.txt --library=/home/biocbuild/bbs-3.22-bioc/R/site-library --timings msmsEDA_1.47.0.tar.gz StartedAt: 2025-10-21 02:15:06 -0400 (Tue, 21 Oct 2025) EndedAt: 2025-10-21 02:17:51 -0400 (Tue, 21 Oct 2025) EllapsedTime: 165.1 seconds RetCode: 0 Status: OK CheckDir: msmsEDA.Rcheck Warnings: 0