Package: msmsEDA Version: 1.48.0 Command: /Library/Frameworks/R.framework/Resources/bin/R CMD check --install=check:msmsEDA.install-out.txt --library=/Library/Frameworks/R.framework/Resources/library --no-vignettes --timings msmsEDA_1.48.0.tar.gz StartedAt: 2025-11-22 13:45:35 -0500 (Sat, 22 Nov 2025) EndedAt: 2025-11-22 13:49:48 -0500 (Sat, 22 Nov 2025) EllapsedTime: 252.9 seconds RetCode: 0 Status: OK CheckDir: msmsEDA.Rcheck Warnings: 0