Package: msmsEDA Version: 1.48.0 Command: /Library/Frameworks/R.framework/Resources/bin/R CMD build --keep-empty-dirs --no-resave-data msmsEDA StartedAt: 2025-11-17 23:08:31 -0500 (Mon, 17 Nov 2025) EndedAt: 2025-11-17 23:08:53 -0500 (Mon, 17 Nov 2025) EllapsedTime: 22.2 seconds RetCode: 0 Status: OK PackageFile: msmsEDA_1.48.0.tar.gz PackageFileSize: 439.6 KiB