Package: msmsEDA Version: 1.48.0 Command: rm -rf msmsEDA.buildbin-libdir && mkdir msmsEDA.buildbin-libdir && /Users/biocbuild/BBS/utils/build-universal.sh msmsEDA_1.48.0.tar.gz /Library/Frameworks/R.framework/Resources/bin/R msmsEDA.buildbin-libdir StartedAt: 2025-11-18 15:58:46 -0500 (Tue, 18 Nov 2025) EndedAt: 2025-11-18 15:59:06 -0500 (Tue, 18 Nov 2025) EllapsedTime: 20.2 seconds RetCode: 0 Status: OK PackageFile: msmsEDA_1.48.0.tgz PackageFileSize: 497.5 KiB