Package: msgbsR Version: 1.33.1 Command: F:\biocbuild\bbs-3.22-bioc\R\bin\R.exe CMD check --no-multiarch --install=check:msgbsR.install-out.txt --library=F:\biocbuild\bbs-3.22-bioc\R\library --no-vignettes --timings msgbsR_1.33.1.tar.gz StartedAt: 2025-08-15 05:32:08 -0400 (Fri, 15 Aug 2025) EndedAt: 2025-08-15 05:40:11 -0400 (Fri, 15 Aug 2025) EllapsedTime: 483.0 seconds RetCode: 0 Status: OK CheckDir: msgbsR.Rcheck Warnings: 0