Package: msgbsR Version: 1.33.1 Command: /home/biocbuild/bbs-3.22-bioc/R/bin/R CMD INSTALL msgbsR StartedAt: 2025-10-19 15:53:21 -0400 (Sun, 19 Oct 2025) EndedAt: 2025-10-19 15:54:20 -0400 (Sun, 19 Oct 2025) EllapsedTime: 58.4 seconds RetCode: 0 Status: OK