Package: msgbsR Version: 1.33.1 Command: /Library/Frameworks/R.framework/Resources/bin/R CMD build --keep-empty-dirs --no-resave-data msgbsR StartedAt: 2025-10-19 18:19:47 -0400 (Sun, 19 Oct 2025) EndedAt: 2025-10-19 18:22:48 -0400 (Sun, 19 Oct 2025) EllapsedTime: 181.3 seconds RetCode: 0 Status: OK PackageFile: msgbsR_1.33.1.tar.gz PackageFileSize: 15.25 MiB