Package: msgbsR Version: 1.33.1 Command: /Library/Frameworks/R.framework/Resources/bin/R CMD INSTALL msgbsR StartedAt: 2025-10-19 15:27:28 -0400 (Sun, 19 Oct 2025) EndedAt: 2025-10-19 15:27:51 -0400 (Sun, 19 Oct 2025) EllapsedTime: 23.0 seconds RetCode: 0 Status: OK