Package: msa Version: 1.41.3 Command: /home/biocbuild/bbs-3.22-bioc/R/bin/R CMD check --install=check:msa.install-out.txt --library=/home/biocbuild/bbs-3.22-bioc/R/site-library --timings msa_1.41.3.tar.gz StartedAt: 2025-10-21 02:11:32 -0400 (Tue, 21 Oct 2025) EndedAt: 2025-10-21 02:13:04 -0400 (Tue, 21 Oct 2025) EllapsedTime: 92.0 seconds RetCode: 0 Status: WARNINGS CheckDir: msa.Rcheck Warnings: 2