Package: msa Version: 1.42.0 Command: /Library/Frameworks/R.framework/Resources/bin/R CMD build --keep-empty-dirs --no-resave-data msa StartedAt: 2025-11-03 17:53:45 -0500 (Mon, 03 Nov 2025) EndedAt: 2025-11-03 18:00:46 -0500 (Mon, 03 Nov 2025) EllapsedTime: 421.3 seconds RetCode: 0 Status: OK PackageFile: msa_1.42.0.tar.gz PackageFileSize: 3.91 MiB