Package: msPurity Version: 1.35.0 Command: /Library/Frameworks/R.framework/Resources/bin/R CMD build --keep-empty-dirs --no-resave-data msPurity StartedAt: 2025-10-05 17:11:01 -0400 (Sun, 05 Oct 2025) EndedAt: 2025-10-05 17:14:09 -0400 (Sun, 05 Oct 2025) EllapsedTime: 187.1 seconds RetCode: 0 Status: OK PackageFile: msPurity_1.35.0.tar.gz PackageFileSize: 11.29 MiB