Package: msPurity Version: 1.35.0 Command: rm -rf msPurity.buildbin-libdir && mkdir msPurity.buildbin-libdir && /Users/biocbuild/BBS/utils/build-universal.sh msPurity_1.35.0.tar.gz /Library/Frameworks/R.framework/Resources/bin/R msPurity.buildbin-libdir StartedAt: 2025-10-05 22:51:16 -0400 (Sun, 05 Oct 2025) EndedAt: 2025-10-05 22:51:22 -0400 (Sun, 05 Oct 2025) EllapsedTime: 6.1 seconds RetCode: 0 Status: OK PackageFile: msPurity_1.35.0.tgz PackageFileSize: 11.42 MiB