Package: msImpute Version: 1.20.0 Command: /Library/Frameworks/R.framework/Resources/bin/R CMD INSTALL msImpute StartedAt: 2025-11-03 15:54:55 -0500 (Mon, 03 Nov 2025) EndedAt: 2025-11-03 15:55:33 -0500 (Mon, 03 Nov 2025) EllapsedTime: 37.8 seconds RetCode: 0 Status: OK