Package: msImpute Version: 1.20.0 Command: /Library/Frameworks/R.framework/Resources/bin/R CMD check --install=check:msImpute.install-out.txt --library=/Library/Frameworks/R.framework/Resources/library --no-vignettes --timings msImpute_1.20.0.tar.gz StartedAt: 2025-11-03 22:44:10 -0500 (Mon, 03 Nov 2025) EndedAt: 2025-11-03 22:47:42 -0500 (Mon, 03 Nov 2025) EllapsedTime: 212.1 seconds RetCode: 0 Status: OK CheckDir: msImpute.Rcheck Warnings: 0