Package: msImpute Version: 1.20.0 Command: rm -rf msImpute.buildbin-libdir && mkdir msImpute.buildbin-libdir && /Users/biocbuild/BBS/utils/build-universal.sh msImpute_1.20.0.tar.gz /Library/Frameworks/R.framework/Resources/bin/R msImpute.buildbin-libdir StartedAt: 2025-11-04 01:51:49 -0500 (Tue, 04 Nov 2025) EndedAt: 2025-11-04 01:52:30 -0500 (Tue, 04 Nov 2025) EllapsedTime: 41.6 seconds RetCode: 0 Status: OK PackageFile: msImpute_1.20.0.tgz PackageFileSize: 2.272 MiB