Package: msImpute Version: 1.20.0 Maintainer: Soroor Hediyeh-zadeh MaintainerEmail: hediyehzadeh.s at wehi.edu.au git_url: https://git.bioconductor.org/packages/msImpute git_branch: RELEASE_3_22 git_last_commit: c038506 git_last_commit_date: 2025-10-29 11:02:31 -0500 (Wed, 29 Oct 2025)