Package: mpra Version: 1.31.0 Command: /home/biocbuild/R/R/bin/R CMD INSTALL mpra StartedAt: 2025-10-02 20:39:03 -0000 (Thu, 02 Oct 2025) EndedAt: 2025-10-02 20:39:34 -0000 (Thu, 02 Oct 2025) EllapsedTime: 31.4 seconds RetCode: 0 Status: OK