Package: mpra Version: 1.31.0 Command: /home/biocbuild/R/R/bin/R CMD check --install=check:mpra.install-out.txt --library=/home/biocbuild/R/R/site-library --no-vignettes --timings mpra_1.31.0.tar.gz StartedAt: 2025-10-03 09:18:11 -0000 (Fri, 03 Oct 2025) EndedAt: 2025-10-03 09:22:04 -0000 (Fri, 03 Oct 2025) EllapsedTime: 233.3 seconds RetCode: 0 Status: OK CheckDir: mpra.Rcheck Warnings: 0