Package: motifmatchr Version: 1.31.1 Command: /home/biocbuild/R/R/bin/R CMD INSTALL motifmatchr StartedAt: 2025-10-23 21:16:48 -0000 (Thu, 23 Oct 2025) EndedAt: 2025-10-23 21:18:07 -0000 (Thu, 23 Oct 2025) EllapsedTime: 78.9 seconds RetCode: 0 Status: OK