Package: motifmatchr Version: 1.31.1 Command: /home/biocbuild/R/R/bin/R CMD build --keep-empty-dirs --no-resave-data motifmatchr StartedAt: 2025-10-21 01:27:24 -0000 (Tue, 21 Oct 2025) EndedAt: 2025-10-21 01:29:44 -0000 (Tue, 21 Oct 2025) EllapsedTime: 140.0 seconds RetCode: 0 Status: OK PackageFile: motifmatchr_1.31.1.tar.gz PackageFileSize: 52.32 KiB