Package: motifmatchr Version: 1.31.1 Command: rm -rf motifmatchr.buildbin-libdir && mkdir motifmatchr.buildbin-libdir && F:\biocbuild\bbs-3.22-bioc\R\bin\R.exe CMD INSTALL --build --library=motifmatchr.buildbin-libdir motifmatchr_1.31.1.tar.gz StartedAt: 2025-08-15 10:45:08 -0400 (Fri, 15 Aug 2025) EndedAt: 2025-08-15 10:46:30 -0400 (Fri, 15 Aug 2025) EllapsedTime: 81.8 seconds RetCode: 0 Status: OK PackageFile: motifmatchr_1.31.1.zip PackageFileSize: 523.5 KiB