Package: motifmatchr Version: 1.32.0 Command: /home/biocbuild/bbs-3.22-bioc/R/bin/R CMD INSTALL motifmatchr StartedAt: 2025-10-31 16:03:18 -0400 (Fri, 31 Oct 2025) EndedAt: 2025-10-31 16:04:16 -0400 (Fri, 31 Oct 2025) EllapsedTime: 57.8 seconds RetCode: 0 Status: OK