Package: motifmatchr Version: 1.32.0 Command: /Library/Frameworks/R.framework/Resources/bin/R CMD check --install=check:motifmatchr.install-out.txt --library=/Library/Frameworks/R.framework/Resources/library --no-vignettes --timings motifmatchr_1.32.0.tar.gz StartedAt: 2025-10-31 20:55:22 -0400 (Fri, 31 Oct 2025) EndedAt: 2025-10-31 20:57:13 -0400 (Fri, 31 Oct 2025) EllapsedTime: 110.2 seconds RetCode: 0 Status: OK CheckDir: motifmatchr.Rcheck Warnings: 0