Package: motifmatchr Version: 1.32.0 Maintainer: Alicia Schep MaintainerEmail: aschep at gmail.com git_url: https://git.bioconductor.org/packages/motifmatchr git_branch: RELEASE_3_22 git_last_commit: ef46b48 git_last_commit_date: 2025-10-29 10:38:55 -0400 (Wed, 29 Oct 2025)