Package: motifcounter Version: 1.34.0 Command: /Library/Frameworks/R.framework/Resources/bin/R CMD INSTALL motifcounter StartedAt: 2025-10-31 15:26:09 -0400 (Fri, 31 Oct 2025) EndedAt: 2025-10-31 15:26:31 -0400 (Fri, 31 Oct 2025) EllapsedTime: 21.7 seconds RetCode: 0 Status: OK