Package: motifcounter Version: 1.34.0 Command: /Library/Frameworks/R.framework/Resources/bin/R CMD build --keep-empty-dirs --no-resave-data motifcounter StartedAt: 2025-10-31 17:55:03 -0400 (Fri, 31 Oct 2025) EndedAt: 2025-10-31 17:57:11 -0400 (Fri, 31 Oct 2025) EllapsedTime: 127.5 seconds RetCode: 0 Status: OK PackageFile: motifcounter_1.34.0.tar.gz PackageFileSize: 611.1 KiB