Package: motifcounter Version: 1.34.0 Command: rm -rf motifcounter.buildbin-libdir && mkdir motifcounter.buildbin-libdir && /Users/biocbuild/BBS/utils/build-universal.sh motifcounter_1.34.0.tar.gz /Library/Frameworks/R.framework/Resources/bin/R motifcounter.buildbin-libdir StartedAt: 2025-11-04 01:51:12 -0500 (Tue, 04 Nov 2025) EndedAt: 2025-11-04 01:51:34 -0500 (Tue, 04 Nov 2025) EllapsedTime: 22.0 seconds RetCode: 0 Status: OK PackageFile: motifcounter_1.34.0.tgz PackageFileSize: 744 KiB