Package: motifbreakR Version: 2.23.0 Command: /Library/Frameworks/R.framework/Resources/bin/R CMD INSTALL motifbreakR StartedAt: 2025-10-23 15:46:02 -0400 (Thu, 23 Oct 2025) EndedAt: 2025-10-23 15:47:38 -0400 (Thu, 23 Oct 2025) EllapsedTime: 95.4 seconds RetCode: 0 Status: OK