Package: motifbreakR Version: 2.23.0 Command: /Library/Frameworks/R.framework/Resources/bin/R CMD check --install=check:motifbreakR.install-out.txt --library=/Library/Frameworks/R.framework/Resources/library --no-vignettes --timings motifbreakR_2.23.0.tar.gz StartedAt: 2025-10-24 22:39:26 -0400 (Fri, 24 Oct 2025) EndedAt: 2025-10-24 22:50:40 -0400 (Fri, 24 Oct 2025) EllapsedTime: 673.9 seconds RetCode: 0 Status: WARNINGS CheckDir: motifbreakR.Rcheck Warnings: 1