Package: motifTestR Version: 1.5.3 Command: /home/biocbuild/R/R/bin/R CMD INSTALL motifTestR StartedAt: 2025-10-02 20:45:09 -0000 (Thu, 02 Oct 2025) EndedAt: 2025-10-02 20:45:29 -0000 (Thu, 02 Oct 2025) EllapsedTime: 19.7 seconds RetCode: 0 Status: OK