Package: motifTestR Version: 1.5.3 Command: /home/biocbuild/R/R/bin/R CMD check --install=check:motifTestR.install-out.txt --library=/home/biocbuild/R/R/site-library --no-vignettes --timings motifTestR_1.5.3.tar.gz StartedAt: 2025-10-03 09:17:23 -0000 (Fri, 03 Oct 2025) EndedAt: 2025-10-03 09:20:57 -0000 (Fri, 03 Oct 2025) EllapsedTime: 214.3 seconds RetCode: 0 Status: OK CheckDir: motifTestR.Rcheck Warnings: 0