Package: mosdef Version: 1.5.1 Command: /home/biocbuild/R/R/bin/R CMD INSTALL mosdef StartedAt: 2025-10-20 21:16:12 -0000 (Mon, 20 Oct 2025) EndedAt: 2025-10-20 21:17:14 -0000 (Mon, 20 Oct 2025) EllapsedTime: 62.2 seconds RetCode: 0 Status: OK