Package: mosdef Version: 1.5.1 Command: /home/biocbuild/R/R/bin/R CMD build --keep-empty-dirs --no-resave-data mosdef StartedAt: 2025-10-21 01:25:44 -0000 (Tue, 21 Oct 2025) EndedAt: 2025-10-21 01:32:48 -0000 (Tue, 21 Oct 2025) EllapsedTime: 424.1 seconds RetCode: 0 Status: OK PackageFile: mosdef_1.5.1.tar.gz PackageFileSize: 3.551 MiB