Package: mosdef Version: 1.5.1 Command: F:\biocbuild\bbs-3.22-bioc\R\bin\R.exe CMD check --no-multiarch --install=check:mosdef.install-out.txt --library=F:\biocbuild\bbs-3.22-bioc\R\library --no-vignettes --timings mosdef_1.5.1.tar.gz StartedAt: 2025-08-15 05:23:46 -0400 (Fri, 15 Aug 2025) EndedAt: 2025-08-15 05:38:12 -0400 (Fri, 15 Aug 2025) EllapsedTime: 865.9 seconds RetCode: 0 Status: OK CheckDir: mosdef.Rcheck Warnings: 0