Package: mosdef Version: 1.5.1 Command: /home/biocbuild/bbs-3.22-bioc/R/bin/R CMD INSTALL mosdef StartedAt: 2025-10-20 15:50:26 -0400 (Mon, 20 Oct 2025) EndedAt: 2025-10-20 15:51:12 -0400 (Mon, 20 Oct 2025) EllapsedTime: 46.6 seconds RetCode: 0 Status: OK