Package: mosdef Version: 1.5.1 Command: /home/biocbuild/bbs-3.22-bioc/R/bin/R CMD check --install=check:mosdef.install-out.txt --library=/home/biocbuild/bbs-3.22-bioc/R/site-library --timings mosdef_1.5.1.tar.gz StartedAt: 2025-10-21 02:06:23 -0400 (Tue, 21 Oct 2025) EndedAt: 2025-10-21 02:21:04 -0400 (Tue, 21 Oct 2025) EllapsedTime: 880.7 seconds RetCode: 0 Status: OK CheckDir: mosdef.Rcheck Warnings: 0